BEGIN:VCALENDAR
PRODID:-//eluceo/ical//2.0/EN
VERSION:2.0
CALSCALE:GREGORIAN
BEGIN:VEVENT
UID:18dd8915a210c1f87758da5ffd258bed
DTSTAMP:20260425T153003Z
SUMMARY:Training
DESCRIPTION:https://www.sg-kuettigen.ch/kalender/training-35
DTSTART:20220903T090000
DTEND:20220903T110000
LOCATION:Schützenhaus Talmatt\, Küttigen\, Schützenhaus\, 5024 Küttigen
ORGANIZER;CN=Schützengesellschaft Küttigen:mailto:info@sg-kuettigen.ch
END:VEVENT
END:VCALENDAR
