BEGIN:VCALENDAR
PRODID:-//eluceo/ical//2.0/EN
VERSION:2.0
CALSCALE:GREGORIAN
BEGIN:VEVENT
UID:556dd239a64d189a7fdf9a675a3e686e
DTSTAMP:20260425T154305Z
SUMMARY:Bezirksverbandschiessen\, SG Oberentfelden (1/2)
DESCRIPTION:https://www.sg-kuettigen.ch/kalender/bezirksverbandschiessen-sg
 -oberentfelden
DTSTART:20220909T180000
DTEND:20220909T193000
LOCATION:Schiessanlage Obertel\, Suhr\, Obertelweg\, 5034 Suhr
ORGANIZER;CN=Schützengesellschaft Küttigen:mailto:info@sg-kuettigen.ch
END:VEVENT
BEGIN:VEVENT
UID:18562113c9a310875ea05fbb4d32e81e
DTSTAMP:20260425T154305Z
SUMMARY:Bezirksverbandschiessen\, SG Oberentfelden (2/2)
DESCRIPTION:https://www.sg-kuettigen.ch/kalender/bezirksverbandschiessen-sg
 -oberentfelden
DTSTART:20220917T090000
DTEND:20220917T113000
LOCATION:Schiessanlage Obertel\, Suhr\, Obertelweg\, 5034 Suhr
ORGANIZER;CN=Schützengesellschaft Küttigen:mailto:info@sg-kuettigen.ch
END:VEVENT
END:VCALENDAR
