BEGIN:VCALENDAR
PRODID:-//eluceo/ical//2.0/EN
VERSION:2.0
CALSCALE:GREGORIAN
BEGIN:VEVENT
UID:d895c94d50eb239b3ed35a09a6c6b082
DTSTAMP:20260425T153230Z
SUMMARY:Plauschmatch
DESCRIPTION:https://www.sg-kuettigen.ch/kalender/plauschmatch-1
DTSTART:20220910T140000
DTEND:20220910T153000
LOCATION:Schützenhaus Talmatt\, Küttigen\, Schützenhaus\, 5024 Küttigen
ORGANIZER;CN=Schützengesellschaft Küttigen:mailto:info@sg-kuettigen.ch
END:VEVENT
END:VCALENDAR
