BEGIN:VCALENDAR
PRODID:-//eluceo/ical//2.0/EN
VERSION:2.0
CALSCALE:GREGORIAN
BEGIN:VEVENT
UID:604bb63a41617e8d6b7c747c3b97a3b3
DTSTAMP:20260425T153121Z
SUMMARY:Endschiessen (1/3)
DESCRIPTION:https://www.sg-kuettigen.ch/kalender/endschiessen-2
DTSTART:20220924T090000
DTEND:20220924T120000
LOCATION:Schützenhaus Talmatt\, Küttigen\, Schützenhaus\, 5024 Küttigen
ORGANIZER;CN=Schützengesellschaft Küttigen:mailto:info@sg-kuettigen.ch
END:VEVENT
BEGIN:VEVENT
UID:fa93e826551a833d601f1b472e29ccce
DTSTAMP:20260425T153121Z
SUMMARY:Endschiessen (2/3)
DESCRIPTION:https://www.sg-kuettigen.ch/kalender/endschiessen-2
DTSTART:20220924T133000
DTEND:20220924T160000
LOCATION:Schützenhaus Talmatt\, Küttigen\, Schützenhaus\, 5024 Küttigen
ORGANIZER;CN=Schützengesellschaft Küttigen:mailto:info@sg-kuettigen.ch
END:VEVENT
BEGIN:VEVENT
UID:43e5dd3b02882b508a4add386d5d04ad
DTSTAMP:20260425T153121Z
SUMMARY:Endschiessen (3/3)
DESCRIPTION:https://www.sg-kuettigen.ch/kalender/endschiessen-2
DTSTART:20221002T090000
DTEND:20221002T120000
LOCATION:Schützenhaus Talmatt\, Küttigen\, Schützenhaus\, 5024 Küttigen
ORGANIZER;CN=Schützengesellschaft Küttigen:mailto:info@sg-kuettigen.ch
END:VEVENT
END:VCALENDAR
