BEGIN:VCALENDAR
PRODID:-//eluceo/ical//2.0/EN
VERSION:2.0
CALSCALE:GREGORIAN
BEGIN:VEVENT
UID:f846c3572a8f99d6b8d8a778a04431c4
DTSTAMP:20260425T155106Z
SUMMARY:Absenden
DESCRIPTION:https://www.sg-kuettigen.ch/kalender/absenden-1
DTSTART:20221119T190000
DTEND:20221119T230000
LOCATION:Restaurant Traube\, Küttigen\, Hauptstrasse 58\, 5024 Küttigen
ORGANIZER;CN=Schützengesellschaft Küttigen:mailto:info@sg-kuettigen.ch
END:VEVENT
END:VCALENDAR
