BEGIN:VCALENDAR
PRODID:-//eluceo/ical//2.0/EN
VERSION:2.0
CALSCALE:GREGORIAN
BEGIN:VEVENT
UID:6598177d44e6e9f18058933c0418189b
DTSTAMP:20260425T154558Z
SUMMARY:Neujahrsapéro 2023
DESCRIPTION:https://www.sg-kuettigen.ch/kalender/neujahrsapero-2023
DTSTART:20230102T110000
DTEND:20230102T140000
LOCATION:Schützenhaus Talmatt\, Küttigen\, Schützenhaus\, 5024 Küttigen
ORGANIZER;CN=Schützengesellschaft Küttigen:mailto:info@sg-kuettigen.ch
END:VEVENT
END:VCALENDAR
