BEGIN:VCALENDAR
PRODID:-//eluceo/ical//2.0/EN
VERSION:2.0
CALSCALE:GREGORIAN
BEGIN:VEVENT
UID:ae58919e536a196c657851c1baf050e2
DTSTAMP:20260425T153004Z
SUMMARY:Generalversammlung
DESCRIPTION:https://www.sg-kuettigen.ch/kalender/generalversammlung-0
DTSTART:20230224T200000
DTEND:20230224T220000
LOCATION:Schützenhaus Talmatt\, Küttigen\, Schützenhaus\, 5024 Küttigen
ORGANIZER;CN=Schützengesellschaft Küttigen:mailto:info@sg-kuettigen.ch
END:VEVENT
END:VCALENDAR
