BEGIN:VCALENDAR
PRODID:-//eluceo/ical//2.0/EN
VERSION:2.0
CALSCALE:GREGORIAN
BEGIN:VEVENT
UID:5faaf4be2ec46b4b00a9a7b182f9a030
DTSTAMP:20260425T153342Z
SUMMARY:Winterausmarsch
DESCRIPTION:https://www.sg-kuettigen.ch/kalender/winterausmarsch-1
DTSTART:20230311T140000
DTEND:20230311T200000
LOCATION:Schulhaus Dorf\, Küttigen\, Schulhausweg 1\, 5024 Küttigen
ORGANIZER;CN=Schützengesellschaft Küttigen:mailto:info@sg-kuettigen.ch
END:VEVENT
END:VCALENDAR
