BEGIN:VCALENDAR
PRODID:-//eluceo/ical//2.0/EN
VERSION:2.0
CALSCALE:GREGORIAN
BEGIN:VEVENT
UID:8331627053c065707ef6243cf78a2e04
DTSTAMP:20260425T153049Z
SUMMARY:Training
DESCRIPTION:https://www.sg-kuettigen.ch/kalender/training-37
DTSTART:20230318T090000
DTEND:20230318T110000
LOCATION:Schützenhaus Talmatt\, Küttigen\, Schützenhaus\, 5024 Küttigen
ORGANIZER;CN=Schützengesellschaft Küttigen:mailto:info@sg-kuettigen.ch
END:VEVENT
END:VCALENDAR
