BEGIN:VCALENDAR
PRODID:-//eluceo/ical//2.0/EN
VERSION:2.0
CALSCALE:GREGORIAN
BEGIN:VEVENT
UID:999a3ac459102bd9c43711152da26475
DTSTAMP:20260425T153121Z
SUMMARY:Training
DESCRIPTION:https://www.sg-kuettigen.ch/kalender/training-38
DTSTART:20230325T090000
DTEND:20230325T110000
LOCATION:Schützenhaus Talmatt\, Küttigen\, Schützenhaus\, 5024 Küttigen
ORGANIZER;CN=Schützengesellschaft Küttigen:mailto:info@sg-kuettigen.ch
END:VEVENT
END:VCALENDAR
