BEGIN:VCALENDAR
PRODID:-//eluceo/ical//2.0/EN
VERSION:2.0
CALSCALE:GREGORIAN
BEGIN:VEVENT
UID:dbf566b133081f8a939a19f742dac9e5
DTSTAMP:20260425T153223Z
SUMMARY:Training
DESCRIPTION:https://www.sg-kuettigen.ch/kalender/training-40
DTSTART:20230406T180000
DTEND:20230406T193000
LOCATION:Schützenhaus Talmatt\, Küttigen\, Schützenhaus\, 5024 Küttigen
ORGANIZER;CN=Schützengesellschaft Küttigen:mailto:info@sg-kuettigen.ch
END:VEVENT
END:VCALENDAR
