BEGIN:VCALENDAR
PRODID:-//eluceo/ical//2.0/EN
VERSION:2.0
CALSCALE:GREGORIAN
BEGIN:VEVENT
UID:bdd53042dfe670a494d61910d633958f
DTSTAMP:20260425T154222Z
SUMMARY:Training
DESCRIPTION:https://www.sg-kuettigen.ch/kalender/training-41
DTSTART:20230415T090000
DTEND:20230415T110000
LOCATION:Schützenhaus Talmatt\, Küttigen\, Schützenhaus\, 5024 Küttigen
ORGANIZER;CN=Schützengesellschaft Küttigen:mailto:info@sg-kuettigen.ch
END:VEVENT
END:VCALENDAR
