BEGIN:VCALENDAR
PRODID:-//eluceo/ical//2.0/EN
VERSION:2.0
CALSCALE:GREGORIAN
BEGIN:VEVENT
UID:6c809f496e40857a5dca491d879a1581
DTSTAMP:20260425T152641Z
SUMMARY:Frühlingscup
DESCRIPTION:https://www.sg-kuettigen.ch/kalender/fruehlingscup-0
DTSTART:20230415T134500
DTEND:20230415T153000
LOCATION:Schützenhaus Talmatt\, Küttigen\, Schützenhaus\, 5024 Küttigen
ORGANIZER;CN=Schützengesellschaft Küttigen:mailto:info@sg-kuettigen.ch
END:VEVENT
END:VCALENDAR
