BEGIN:VCALENDAR
PRODID:-//eluceo/ical//2.0/EN
VERSION:2.0
CALSCALE:GREGORIAN
BEGIN:VEVENT
UID:f29808fd5b151259d462185a3d684aac
DTSTAMP:20260425T154054Z
SUMMARY:Cupschiessen\, SG Densbüren-Asp
DESCRIPTION:https://www.sg-kuettigen.ch/kirchberg-schuetzenverband/kalender
 /cupschiessen-sg-densbueren-asp
DTSTART:20230416T090000
DTEND:20230416T100000
LOCATION:Schiessanlage Büelhalde\, Densbüren\, Cholhaldeweg\, 5026 Densb
 üren
ORGANIZER;CN=Schützengesellschaft Küttigen:mailto:info@sg-kuettigen.ch
END:VEVENT
END:VCALENDAR
