BEGIN:VCALENDAR
PRODID:-//eluceo/ical//2.0/EN
VERSION:2.0
CALSCALE:GREGORIAN
BEGIN:VEVENT
UID:215ecefccae0c9def1fdc6b18136911a
DTSTAMP:20260425T152841Z
SUMMARY:Training
DESCRIPTION:https://www.sg-kuettigen.ch/kalender/training-42
DTSTART:20230427T180000
DTEND:20230427T193000
LOCATION:Schützenhaus Talmatt\, Küttigen\, Schützenhaus\, 5024 Küttigen
ORGANIZER;CN=Schützengesellschaft Küttigen:mailto:info@sg-kuettigen.ch
END:VEVENT
END:VCALENDAR
