BEGIN:VCALENDAR
PRODID:-//eluceo/ical//2.0/EN
VERSION:2.0
CALSCALE:GREGORIAN
BEGIN:VEVENT
UID:a4f6774c2bbe45f01b859432a44ea5fe
DTSTAMP:20260425T154138Z
SUMMARY:1. Obligatorischer Schiesstag
DESCRIPTION:https://www.sg-kuettigen.ch/kalender/1-obligatorischer-schiesst
 ag-0
DTSTART:20230506T093000
DTEND:20230506T110000
LOCATION:Schützenhaus Talmatt\, Küttigen\, Schützenhaus\, 5024 Küttigen
ORGANIZER;CN=Schützengesellschaft Küttigen:mailto:info@sg-kuettigen.ch
END:VEVENT
END:VCALENDAR
