BEGIN:VCALENDAR
PRODID:-//eluceo/ical//2.0/EN
VERSION:2.0
CALSCALE:GREGORIAN
BEGIN:VEVENT
UID:991792d62e3a67fa1e624e21eccc84a1
DTSTAMP:20260425T154927Z
SUMMARY:Kirchbergschiessen (1/2)
DESCRIPTION:https://www.sg-kuettigen.ch/kirchberg-schuetzenverband/kalender
 /kirchbergschiessen
DTSTART:20230506T133000
DTEND:20230506T153000
LOCATION:Schützenhaus Talmatt\, Küttigen\, Schützenhaus\, 5024 Küttigen
ORGANIZER;CN=Schützengesellschaft Küttigen:mailto:info@sg-kuettigen.ch
END:VEVENT
BEGIN:VEVENT
UID:3cd0a9225673ee846736012f783402c2
DTSTAMP:20260425T154927Z
SUMMARY:Kirchbergschiessen (2/2)
DESCRIPTION:https://www.sg-kuettigen.ch/kirchberg-schuetzenverband/kalender
 /kirchbergschiessen
DTSTART:20230507T093000
DTEND:20230507T113000
LOCATION:Schützenhaus Talmatt\, Küttigen\, Schützenhaus\, 5024 Küttigen
ORGANIZER;CN=Schützengesellschaft Küttigen:mailto:info@sg-kuettigen.ch
END:VEVENT
END:VCALENDAR
