BEGIN:VCALENDAR
PRODID:-//eluceo/ical//2.0/EN
VERSION:2.0
CALSCALE:GREGORIAN
BEGIN:VEVENT
UID:8c3f43c00d81711a3c7bd338e6990abf
DTSTAMP:20260425T154559Z
SUMMARY:FS Training mit Jungschützen
DESCRIPTION:https://www.sg-kuettigen.ch/kalender/fs-training-mit-jungschuet
 zen-1
DTSTART:20230517T180000
DTEND:20230517T200000
LOCATION:Schützenhaus Talmatt\, Küttigen\, Schützenhaus\, 5024 Küttigen
ORGANIZER;CN=Schützengesellschaft Küttigen:mailto:info@sg-kuettigen.ch
END:VEVENT
END:VCALENDAR
