BEGIN:VCALENDAR
PRODID:-//eluceo/ical//2.0/EN
VERSION:2.0
CALSCALE:GREGORIAN
BEGIN:VEVENT
UID:4c7052a6cceb145e1868cc010240c77c
DTSTAMP:20260425T153001Z
SUMMARY:49. Römerguetschiessen (1/4)
DESCRIPTION:https://www.sg-kuettigen.ch/kalender/49-roemerguetschiessen
DTSTART:20230519T170000
DTEND:20230519T193000
LOCATION:Schiessanlage Obertel\, Suhr\, Obertelweg\, 5034 Suhr
ORGANIZER;CN=Schützengesellschaft Küttigen:mailto:info@sg-kuettigen.ch
END:VEVENT
BEGIN:VEVENT
UID:db4429fdb130c944d90dcd36f46fa51d
DTSTAMP:20260425T153001Z
SUMMARY:49. Römerguetschiessen (2/4)
DESCRIPTION:https://www.sg-kuettigen.ch/kalender/49-roemerguetschiessen
DTSTART:20230520T080000
DTEND:20230520T120000
LOCATION:Schiessanlage Obertel\, Suhr\, Obertelweg\, 5034 Suhr
ORGANIZER;CN=Schützengesellschaft Küttigen:mailto:info@sg-kuettigen.ch
END:VEVENT
BEGIN:VEVENT
UID:1634dbd99824e67fdc46f0cc66e3a564
DTSTAMP:20260425T153001Z
SUMMARY:49. Römerguetschiessen (3/4)
DESCRIPTION:https://www.sg-kuettigen.ch/kalender/49-roemerguetschiessen
DTSTART:20230529T080000
DTEND:20230529T120000
LOCATION:Schiessanlage Obertel\, Suhr\, Obertelweg\, 5034 Suhr
ORGANIZER;CN=Schützengesellschaft Küttigen:mailto:info@sg-kuettigen.ch
END:VEVENT
BEGIN:VEVENT
UID:f4324a390a01ec33ddb5fb3726841c95
DTSTAMP:20260425T153001Z
SUMMARY:49. Römerguetschiessen (4/4)
DESCRIPTION:https://www.sg-kuettigen.ch/kalender/49-roemerguetschiessen
DTSTART:20230529T133000
DTEND:20230529T153000
LOCATION:Schiessanlage Obertel\, Suhr\, Obertelweg\, 5034 Suhr
ORGANIZER;CN=Schützengesellschaft Küttigen:mailto:info@sg-kuettigen.ch
END:VEVENT
END:VCALENDAR
