BEGIN:VCALENDAR
PRODID:-//eluceo/ical//2.0/EN
VERSION:2.0
CALSCALE:GREGORIAN
BEGIN:VEVENT
UID:b73890f9c7c338068694d0d6052b8425
DTSTAMP:20260425T153037Z
SUMMARY:FS Training
DESCRIPTION:https://www.sg-kuettigen.ch/kalender/fs-training-9
DTSTART:20230601T180000
DTEND:20230601T200000
LOCATION:Schützenhaus Talmatt\, Küttigen\, Schützenhaus\, 5024 Küttigen
ORGANIZER;CN=Schützengesellschaft Küttigen:mailto:info@sg-kuettigen.ch
END:VEVENT
END:VCALENDAR
