BEGIN:VCALENDAR
PRODID:-//eluceo/ical//2.0/EN
VERSION:2.0
CALSCALE:GREGORIAN
BEGIN:VEVENT
UID:ca2b82f1463a379c303c05faea5914ff
DTSTAMP:20260425T154613Z
SUMMARY:Eidgenössisches Feldschiessen (1/3)
DESCRIPTION:https://www.sg-kuettigen.ch/kirchberg-schuetzenverband/kalender
 /eidgenoessisches-feldschiessen
DTSTART:20230603T090000
DTEND:20230603T120000
LOCATION:Schiessanlage Büelhalde\, Densbüren\, Cholhaldeweg\, 5026 Densb
 üren
ORGANIZER;CN=Schützengesellschaft Küttigen:mailto:info@sg-kuettigen.ch
END:VEVENT
BEGIN:VEVENT
UID:028e444ee484cdabf5a19403823dd0c7
DTSTAMP:20260425T154613Z
SUMMARY:Eidgenössisches Feldschiessen (2/3)
DESCRIPTION:https://www.sg-kuettigen.ch/kirchberg-schuetzenverband/kalender
 /eidgenoessisches-feldschiessen
DTSTART:20230603T133000
DTEND:20230603T160000
LOCATION:Schiessanlage Büelhalde\, Densbüren\, Cholhaldeweg\, 5026 Densb
 üren
ORGANIZER;CN=Schützengesellschaft Küttigen:mailto:info@sg-kuettigen.ch
END:VEVENT
BEGIN:VEVENT
UID:6b314c3f8c9623e8c2acefa7c3fa50db
DTSTAMP:20260425T154613Z
SUMMARY:Eidgenössisches Feldschiessen (3/3)
DESCRIPTION:https://www.sg-kuettigen.ch/kirchberg-schuetzenverband/kalender
 /eidgenoessisches-feldschiessen
DTSTART:20230604T090000
DTEND:20230604T113000
LOCATION:Schiessanlage Büelhalde\, Densbüren\, Cholhaldeweg\, 5026 Densb
 üren
ORGANIZER;CN=Schützengesellschaft Küttigen:mailto:info@sg-kuettigen.ch
END:VEVENT
END:VCALENDAR
