BEGIN:VCALENDAR
PRODID:-//eluceo/ical//2.0/EN
VERSION:2.0
CALSCALE:GREGORIAN
BEGIN:VEVENT
UID:75a6e94de390234a36caf31eee59852f
DTSTAMP:20260425T154426Z
SUMMARY:Training
DESCRIPTION:https://www.sg-kuettigen.ch/kalender/training-44
DTSTART:20230615T180000
DTEND:20230615T200000
LOCATION:Schützenhaus Talmatt\, Küttigen\, Schützenhaus\, 5024 Küttigen
ORGANIZER;CN=Schützengesellschaft Küttigen:mailto:info@sg-kuettigen.ch
END:VEVENT
END:VCALENDAR
