BEGIN:VCALENDAR
PRODID:-//eluceo/ical//2.0/EN
VERSION:2.0
CALSCALE:GREGORIAN
BEGIN:VEVENT
UID:b783ae142992d0da97cb25544e782a59
DTSTAMP:20260425T153230Z
SUMMARY:Training
DESCRIPTION:https://www.sg-kuettigen.ch/kalender/training-45
DTSTART:20230622T180000
DTEND:20230622T200000
LOCATION:Schützenhaus Talmatt\, Küttigen\, Schützenhaus\, 5024 Küttigen
ORGANIZER;CN=Schützengesellschaft Küttigen:mailto:info@sg-kuettigen.ch
END:VEVENT
END:VCALENDAR
