BEGIN:VCALENDAR
PRODID:-//eluceo/ical//2.0/EN
VERSION:2.0
CALSCALE:GREGORIAN
BEGIN:VEVENT
UID:0e93e231ab092821a1133fdd718b39b9
DTSTAMP:20260425T153924Z
SUMMARY:31. Aargauer Kantonalschützenfest
DESCRIPTION:https://www.sg-kuettigen.ch/kalender/31-aargauer-kantonalschuet
 zenfest
DTSTART:20230624T080000
DTEND:20230624T161500
LOCATION:Schiessanlage Beinwil/Freiamt\, Schützenhausstrasse\, 5637 Beinwi
 l (Freiamt)
ORGANIZER;CN=Schützengesellschaft Küttigen:mailto:info@sg-kuettigen.ch
END:VEVENT
END:VCALENDAR
