BEGIN:VCALENDAR
PRODID:-//eluceo/ical//2.0/EN
VERSION:2.0
CALSCALE:GREGORIAN
BEGIN:VEVENT
UID:7aaffb1b15bd0630a26639c37766d1f1
DTSTAMP:20260425T155354Z
SUMMARY:Funktionärsschiessen (Königstein-\, Urgiz- & Bundesfeierschiessen
 )
DESCRIPTION:https://www.sg-kuettigen.ch/kalender/funktionaersschiessen-koen
 igstein-urgiz-bundesfeierschiessen
DTSTART:20230719T180000
DTEND:20230719T200000
LOCATION:Schiessanlage Büelhalde\, Densbüren\, Cholhaldeweg\, 5026 Densb
 üren
ORGANIZER;CN=Schützengesellschaft Küttigen:mailto:info@sg-kuettigen.ch
END:VEVENT
END:VCALENDAR
