BEGIN:VCALENDAR
PRODID:-//eluceo/ical//2.0/EN
VERSION:2.0
CALSCALE:GREGORIAN
BEGIN:VEVENT
UID:d4e03db4dd30b0b53c34a9a362d66015
DTSTAMP:20260425T153051Z
SUMMARY:Training
DESCRIPTION:https://www.sg-kuettigen.ch/kalender/training-47
DTSTART:20230720T180000
DTEND:20230720T200000
LOCATION:Schützenhaus Talmatt\, Küttigen\, Schützenhaus\, 5024 Küttigen
ORGANIZER;CN=Schützengesellschaft Küttigen:mailto:info@sg-kuettigen.ch
END:VEVENT
END:VCALENDAR
