BEGIN:VCALENDAR
PRODID:-//eluceo/ical//2.0/EN
VERSION:2.0
CALSCALE:GREGORIAN
BEGIN:VEVENT
UID:04c6a82d83c5c037a90c4fc71bba20c7
DTSTAMP:20260425T154507Z
SUMMARY:Gladiatorenschiessen (1/5)
DESCRIPTION:https://www.sg-kuettigen.ch/kalender/gladiatorenschiessen
DTSTART:20230818T173000
DTEND:20230818T193000
LOCATION:Schiessanlage Hausen\, Schützenhausstrasse\, 5212 Hausen AG
ORGANIZER;CN=Schützengesellschaft Küttigen:mailto:info@sg-kuettigen.ch
END:VEVENT
BEGIN:VEVENT
UID:786f009a379bd64c86db9b3a9742e353
DTSTAMP:20260425T154507Z
SUMMARY:Gladiatorenschiessen (2/5)
DESCRIPTION:https://www.sg-kuettigen.ch/kalender/gladiatorenschiessen
DTSTART:20230819T090000
DTEND:20230819T120000
LOCATION:Schiessanlage Hausen\, Schützenhausstrasse\, 5212 Hausen AG
ORGANIZER;CN=Schützengesellschaft Küttigen:mailto:info@sg-kuettigen.ch
END:VEVENT
BEGIN:VEVENT
UID:23ec5f1f62c6811e11a957287225d83b
DTSTAMP:20260425T154507Z
SUMMARY:Gladiatorenschiessen (3/5)
DESCRIPTION:https://www.sg-kuettigen.ch/kalender/gladiatorenschiessen
DTSTART:20230826T090000
DTEND:20230826T120000
LOCATION:Schiessanlage Hausen\, Schützenhausstrasse\, 5212 Hausen AG
ORGANIZER;CN=Schützengesellschaft Küttigen:mailto:info@sg-kuettigen.ch
END:VEVENT
BEGIN:VEVENT
UID:cd136c4da883587ba71c550bdd317027
DTSTAMP:20260425T154507Z
SUMMARY:Gladiatorenschiessen (4/5)
DESCRIPTION:https://www.sg-kuettigen.ch/kalender/gladiatorenschiessen
DTSTART:20230826T133000
DTEND:20230826T153000
LOCATION:Schiessanlage Hausen\, Schützenhausstrasse\, 5212 Hausen AG
ORGANIZER;CN=Schützengesellschaft Küttigen:mailto:info@sg-kuettigen.ch
END:VEVENT
BEGIN:VEVENT
UID:9db014a491e5d4899154a2dcab9e750e
DTSTAMP:20260425T154507Z
SUMMARY:Gladiatorenschiessen (5/5)
DESCRIPTION:https://www.sg-kuettigen.ch/kalender/gladiatorenschiessen
DTSTART:20230827T090000
DTEND:20230827T120000
LOCATION:Schiessanlage Hausen\, Schützenhausstrasse\, 5212 Hausen AG
ORGANIZER;CN=Schützengesellschaft Küttigen:mailto:info@sg-kuettigen.ch
END:VEVENT
END:VCALENDAR
