BEGIN:VCALENDAR
PRODID:-//eluceo/ical//2.0/EN
VERSION:2.0
CALSCALE:GREGORIAN
BEGIN:VEVENT
UID:d25bd20a24a5e388704cd1130f8ffeca
DTSTAMP:20260425T155159Z
SUMMARY:Schlussschiessen Kirchbergmeisterschaft & Absenden
DESCRIPTION:https://www.sg-kuettigen.ch/kirchberg-schuetzenverband/kalender
 /schlussschiessen-kirchbergmeisterschaft-absenden
DTSTART:20230819T090000
DTEND:20230819T110000
LOCATION:Schützenhaus Talmatt\, Küttigen\, Schützenhaus\, 5024 Küttigen
ORGANIZER;CN=Schützengesellschaft Küttigen:mailto:info@sg-kuettigen.ch
END:VEVENT
END:VCALENDAR
