BEGIN:VCALENDAR
PRODID:-//eluceo/ical//2.0/EN
VERSION:2.0
CALSCALE:GREGORIAN
BEGIN:VEVENT
UID:fb169ceac8b0d78b0fa79866d870f2e6
DTSTAMP:20260425T154210Z
SUMMARY:2. Obligatorischer Schiesstag
DESCRIPTION:https://www.sg-kuettigen.ch/kalender/2-obligatorischer-schiesst
 ag-0
DTSTART:20230831T180000
DTEND:20230831T193000
LOCATION:Schützenhaus Talmatt\, Küttigen\, Schützenhaus\, 5024 Küttigen
ORGANIZER;CN=Schützengesellschaft Küttigen:mailto:info@sg-kuettigen.ch
END:VEVENT
END:VCALENDAR
