BEGIN:VCALENDAR
PRODID:-//eluceo/ical//2.0/EN
VERSION:2.0
CALSCALE:GREGORIAN
BEGIN:VEVENT
UID:9fb85d6345fcf99ced990d5d1df58a3f
DTSTAMP:20260425T153321Z
SUMMARY:Training
DESCRIPTION:https://www.sg-kuettigen.ch/kalender/training-49
DTSTART:20230909T090000
DTEND:20230909T110000
LOCATION:Schützenhaus Talmatt\, Küttigen\, Schützenhaus\, 5024 Küttigen
ORGANIZER;CN=Schützengesellschaft Küttigen:mailto:info@sg-kuettigen.ch
END:VEVENT
END:VCALENDAR
