BEGIN:VCALENDAR
PRODID:-//eluceo/ical//2.0/EN
VERSION:2.0
CALSCALE:GREGORIAN
BEGIN:VEVENT
UID:2a839a2df37915493c42fb79eda25497
DTSTAMP:20260425T153846Z
SUMMARY:Plauschmatch
DESCRIPTION:https://www.sg-kuettigen.ch/kalender/plauschmatch-2
DTSTART:20230909T140000
DTEND:20230909T153000
LOCATION:Schützenhaus Talmatt\, Küttigen\, Schützenhaus\, 5024 Küttigen
ORGANIZER;CN=Schützengesellschaft Küttigen:mailto:info@sg-kuettigen.ch
END:VEVENT
END:VCALENDAR
