BEGIN:VCALENDAR
PRODID:-//eluceo/ical//2.0/EN
VERSION:2.0
CALSCALE:GREGORIAN
BEGIN:VEVENT
UID:db67931c6322c2261bd0de156813454d
DTSTAMP:20260425T152511Z
SUMMARY:Endschiessen (1/3)
DESCRIPTION:https://www.sg-kuettigen.ch/kalender/endschiessen-3
DTSTART:20230923T090000
DTEND:20230923T120000
LOCATION:Schützenhaus Talmatt\, Küttigen\, Schützenhaus\, 5024 Küttigen
ORGANIZER;CN=Schützengesellschaft Küttigen:mailto:info@sg-kuettigen.ch
END:VEVENT
BEGIN:VEVENT
UID:ca803dc7c25e3610d30f176a432a6de1
DTSTAMP:20260425T152511Z
SUMMARY:Endschiessen (2/3)
DESCRIPTION:https://www.sg-kuettigen.ch/kalender/endschiessen-3
DTSTART:20230923T133000
DTEND:20230923T160000
LOCATION:Schützenhaus Talmatt\, Küttigen\, Schützenhaus\, 5024 Küttigen
ORGANIZER;CN=Schützengesellschaft Küttigen:mailto:info@sg-kuettigen.ch
END:VEVENT
BEGIN:VEVENT
UID:7a62620e3cabdbcaa4e2d8c66b4ae5da
DTSTAMP:20260425T152511Z
SUMMARY:Endschiessen (3/3)
DESCRIPTION:https://www.sg-kuettigen.ch/kalender/endschiessen-3
DTSTART:20231008T090000
DTEND:20231008T120000
LOCATION:Schützenhaus Talmatt\, Küttigen\, Schützenhaus\, 5024 Küttigen
ORGANIZER;CN=Schützengesellschaft Küttigen:mailto:info@sg-kuettigen.ch
END:VEVENT
END:VCALENDAR
