BEGIN:VCALENDAR
PRODID:-//eluceo/ical//2.0/EN
VERSION:2.0
CALSCALE:GREGORIAN
BEGIN:VEVENT
UID:1ca6f21a753aac34f94690de00d4c045
DTSTAMP:20260425T154139Z
SUMMARY:Hock Ehrenmitglieder
DESCRIPTION:https://www.sg-kuettigen.ch/kalender/hock-ehrenmitglieder-2
DTSTART:20231013T193000
DTEND:20231013T220000
LOCATION:Schützenhaus Talmatt\, Küttigen\, Schützenhaus\, 5024 Küttigen
ORGANIZER;CN=Schützengesellschaft Küttigen:mailto:info@sg-kuettigen.ch
END:VEVENT
END:VCALENDAR
