BEGIN:VCALENDAR
PRODID:-//eluceo/ical//2.0/EN
VERSION:2.0
CALSCALE:GREGORIAN
BEGIN:VEVENT
UID:b3f7865ff6b2c211ca777fb46287f50c
DTSTAMP:20260425T152832Z
SUMMARY:Absenden
DESCRIPTION:https://www.sg-kuettigen.ch/kalender/absenden-2
DTSTART:20231118T190000
DTEND:20231118T230000
LOCATION:Restaurant Traube\, Küttigen\, Hauptstrasse 58\, 5024 Küttigen
ORGANIZER;CN=Schützengesellschaft Küttigen:mailto:info@sg-kuettigen.ch
END:VEVENT
END:VCALENDAR
