BEGIN:VCALENDAR
PRODID:-//eluceo/ical//2.0/EN
VERSION:2.0
CALSCALE:GREGORIAN
BEGIN:VEVENT
UID:1f19a3c05e2ca245b2d3f0ce46a54908
DTSTAMP:20260425T152856Z
SUMMARY:Generalversammlung
DESCRIPTION:https://www.sg-kuettigen.ch/kalender/generalversammlung-1
DTSTART:20240223T200000
DTEND:20240223T220000
LOCATION:Schützenhaus Talmatt\, Küttigen\, Schützenhaus\, 5024 Küttigen
ORGANIZER;CN=Schützengesellschaft Küttigen:mailto:info@sg-kuettigen.ch
END:VEVENT
END:VCALENDAR
