BEGIN:VCALENDAR
PRODID:-//eluceo/ical//2.0/EN
VERSION:2.0
CALSCALE:GREGORIAN
BEGIN:VEVENT
UID:4885bbe246f1e2174e45069f39348a0e
DTSTAMP:20260425T171718Z
SUMMARY:1. Schiesstag: Belehrungsschiessen
DESCRIPTION:https://www.sg-kuettigen.ch/jungschuetzen/kalender/1-schiesstag
 -belehrungsschiessen
DTSTART:20230318T133000
DTEND:20230318T163000
LOCATION:Schützenhaus Talmatt\, Küttigen\, Schützenhaus\, 5024 Küttigen
ORGANIZER;CN=Schützengesellschaft Küttigen:mailto:info@sg-kuettigen.ch
END:VEVENT
END:VCALENDAR
