BEGIN:VCALENDAR
PRODID:-//eluceo/ical//2.0/EN
VERSION:2.0
CALSCALE:GREGORIAN
BEGIN:VEVENT
UID:4bbb68f6c4aedec423c74de150842b19
DTSTAMP:20260425T154937Z
SUMMARY:2. Schiesstag: Belehrungsschiessen
DESCRIPTION:https://www.sg-kuettigen.ch/jungschuetzen/kalender/2-schiesstag
 -belehrungsschiessen
DTSTART:20230325T133000
DTEND:20230325T163000
LOCATION:Schützenhaus Talmatt\, Küttigen\, Schützenhaus\, 5024 Küttigen
ORGANIZER;CN=Schützengesellschaft Küttigen:mailto:info@sg-kuettigen.ch
END:VEVENT
END:VCALENDAR
