BEGIN:VCALENDAR
PRODID:-//eluceo/ical//2.0/EN
VERSION:2.0
CALSCALE:GREGORIAN
BEGIN:VEVENT
UID:f50a18bfdb895bb2c3d18ac7a02fef5f
DTSTAMP:20260425T154053Z
SUMMARY:5. Schiesstag: Obligatorisches\, JS-Stich
DESCRIPTION:https://www.sg-kuettigen.ch/jungschuetzen/kalender/5-schiesstag
 -obligatorisches-js-stich
DTSTART:20230422T133000
DTEND:20230422T163000
LOCATION:Schützenhaus Talmatt\, Küttigen\, Schützenhaus\, 5024 Küttigen
ORGANIZER;CN=Schützengesellschaft Küttigen:mailto:info@sg-kuettigen.ch
END:VEVENT
END:VCALENDAR
