BEGIN:VCALENDAR
PRODID:-//eluceo/ical//2.0/EN
VERSION:2.0
CALSCALE:GREGORIAN
BEGIN:VEVENT
UID:db821399a20a4bf22e5cd18a264aa68a
DTSTAMP:20260425T152639Z
SUMMARY:Kurstag Jungschützen
DESCRIPTION:https://www.sg-kuettigen.ch/jungschuetzen/kalender/kurstag-jung
 schuetzen
DTSTART:20230429T090000
DTEND:20230429T160000
LOCATION:Schützenhaus Talmatt\, Küttigen\, Schützenhaus\, 5024 Küttigen
ORGANIZER;CN=Schützengesellschaft Küttigen:mailto:info@sg-kuettigen.ch
END:VEVENT
END:VCALENDAR
