BEGIN:VCALENDAR
PRODID:-//eluceo/ical//2.0/EN
VERSION:2.0
CALSCALE:GREGORIAN
BEGIN:VEVENT
UID:1b57f2305f9ed1f54b743c882d43e789
DTSTAMP:20260425T154508Z
SUMMARY:6. Schiesstag: Feldschiessen-Training
DESCRIPTION:https://www.sg-kuettigen.ch/jungschuetzen/kalender/6-schiesstag
 -feldschiessen-training
DTSTART:20230517T174500
DTEND:20230517T200000
LOCATION:Schützenhaus Talmatt\, Küttigen\, Schützenhaus\, 5024 Küttigen
ORGANIZER;CN=Schützengesellschaft Küttigen:mailto:info@sg-kuettigen.ch
END:VEVENT
END:VCALENDAR
