BEGIN:VCALENDAR
PRODID:-//eluceo/ical//2.0/EN
VERSION:2.0
CALSCALE:GREGORIAN
BEGIN:VEVENT
UID:fecd897acc60c83985cd1de3779c12c0
DTSTAMP:20260425T154046Z
SUMMARY:7. Schiesstag: Hauptschiessen\, Wettkampfschiessen
DESCRIPTION:https://www.sg-kuettigen.ch/jungschuetzen/kalender/7-schiesstag
 -hauptschiessen-wettkampfschiessen
DTSTART:20230527T133000
DTEND:20230527T163000
LOCATION:Schützenhaus Talmatt\, Küttigen\, Schützenhaus\, 5024 Küttigen
ORGANIZER;CN=Schützengesellschaft Küttigen:mailto:info@sg-kuettigen.ch
END:VEVENT
END:VCALENDAR
