BEGIN:VCALENDAR
PRODID:-//eluceo/ical//2.0/EN
VERSION:2.0
CALSCALE:GREGORIAN
BEGIN:VEVENT
UID:4d1beec2a9760d36886018f145cb6462
DTSTAMP:20260425T154600Z
SUMMARY:Wettschiessen (1/2)
DESCRIPTION:https://www.sg-kuettigen.ch/jungschuetzen/kalender/wettschiesse
 n
DTSTART:20230609T193000
DTEND:20230609T200000
LOCATION:Schiessanlage Büelhalde\, Densbüren\, Cholhaldeweg\, 5026 Densb
 üren
ORGANIZER;CN=Schützengesellschaft Küttigen:mailto:info@sg-kuettigen.ch
END:VEVENT
BEGIN:VEVENT
UID:9efd29aca580666a5ecd4d9d5c20331e
DTSTAMP:20260425T154600Z
SUMMARY:Wettschiessen (2/2)
DESCRIPTION:https://www.sg-kuettigen.ch/jungschuetzen/kalender/wettschiesse
 n
DTSTART:20230624T140000
DTEND:20230624T153000
LOCATION:Schiessanlage Büelhalde\, Densbüren\, Cholhaldeweg\, 5026 Densb
 üren
ORGANIZER;CN=Schützengesellschaft Küttigen:mailto:info@sg-kuettigen.ch
END:VEVENT
END:VCALENDAR
