BEGIN:VCALENDAR
PRODID:-//eluceo/ical//2.0/EN
VERSION:2.0
CALSCALE:GREGORIAN
BEGIN:VEVENT
UID:435bba7dd108ae23bc7555acc3923d01
DTSTAMP:20260425T154212Z
SUMMARY:8. Schiesstag: Hauptschiessen\, Nachschiessen
DESCRIPTION:https://www.sg-kuettigen.ch/jungschuetzen/kalender/8-schiesstag
 -hauptschiessen-nachschiessen
DTSTART:20230610T133000
DTEND:20230610T163000
LOCATION:Schützenhaus Talmatt\, Küttigen\, Schützenhaus\, 5024 Küttigen
ORGANIZER;CN=Schützengesellschaft Küttigen:mailto:info@sg-kuettigen.ch
END:VEVENT
END:VCALENDAR
