BEGIN:VCALENDAR
PRODID:-//eluceo/ical//2.0/EN
VERSION:2.0
CALSCALE:GREGORIAN
BEGIN:VEVENT
UID:ce8a2c012b37324cb4a63f1b6652b91b
DTSTAMP:20260425T154733Z
SUMMARY:Funktionärsschiessen (Königstein / Urgiz / Bundesfeier)
DESCRIPTION:https://www.sg-kuettigen.ch/kirchberg-schuetzenverband/kalender
 /funktionaersschiessen-koenigstein-urgiz-bundesfeier
DTSTART:20230719T180000
DTEND:20230719T200000
LOCATION:Schiessanlage Büelhalde\, Densbüren\, Cholhaldeweg\, 5026 Densb
 üren
ORGANIZER;CN=Schützengesellschaft Küttigen:mailto:info@sg-kuettigen.ch
END:VEVENT
END:VCALENDAR
