BEGIN:VCALENDAR
PRODID:-//eluceo/ical//2.0/EN
VERSION:2.0
CALSCALE:GREGORIAN
BEGIN:VEVENT
UID:3ebdd6f483eefb703ad6771ea25cc1f4
DTSTAMP:20260425T154134Z
SUMMARY:Eröffnungsschiessen Kirchbergmeisterschaft 2019
DESCRIPTION:https://www.sg-kuettigen.ch/kalender/eroeffnungsschiessen-kirch
 bergmeisterschaft-2019
DTSTART:20190413T090000
DTEND:20190413T110000
LOCATION:Schützenhaus Talmatt\, Küttigen\, Schützenhaus\, 5024 Küttigen
ORGANIZER;CN=Schützengesellschaft Küttigen:mailto:info@sg-kuettigen.ch
END:VEVENT
END:VCALENDAR
