BEGIN:VCALENDAR
PRODID:-//eluceo/ical//2.0/EN
VERSION:2.0
CALSCALE:GREGORIAN
BEGIN:VEVENT
UID:fd2c95ac24923bc153b951fc5fa9c53a
DTSTAMP:20260425T154345Z
SUMMARY:Urgizschiessen (SG Densbüren-Asp) (1/5)
DESCRIPTION:https://www.sg-kuettigen.ch/kirchberg-schuetzenverband/kalender
 /urgizschiessen-sg-densbueren-asp
DTSTART:20230722T080000
DTEND:20230722T120000
LOCATION:Schiessanlage Büelhalde\, Densbüren\, Cholhaldeweg\, 5026 Densb
 üren
ORGANIZER;CN=Schützengesellschaft Küttigen:mailto:info@sg-kuettigen.ch
END:VEVENT
BEGIN:VEVENT
UID:fca7fbb5f0aa1b369011521a20fdbadb
DTSTAMP:20260425T154345Z
SUMMARY:Urgizschiessen (SG Densbüren-Asp) (2/5)
DESCRIPTION:https://www.sg-kuettigen.ch/kirchberg-schuetzenverband/kalender
 /urgizschiessen-sg-densbueren-asp
DTSTART:20230722T133000
DTEND:20230722T153000
LOCATION:Schiessanlage Büelhalde\, Densbüren\, Cholhaldeweg\, 5026 Densb
 üren
ORGANIZER;CN=Schützengesellschaft Küttigen:mailto:info@sg-kuettigen.ch
END:VEVENT
BEGIN:VEVENT
UID:45cd641ac19995bc298295e54393396b
DTSTAMP:20260425T154345Z
SUMMARY:Urgizschiessen (SG Densbüren-Asp) (3/5)
DESCRIPTION:https://www.sg-kuettigen.ch/kirchberg-schuetzenverband/kalender
 /urgizschiessen-sg-densbueren-asp
DTSTART:20230729T080000
DTEND:20230729T120000
LOCATION:Schiessanlage Büelhalde\, Densbüren\, Cholhaldeweg\, 5026 Densb
 üren
ORGANIZER;CN=Schützengesellschaft Küttigen:mailto:info@sg-kuettigen.ch
END:VEVENT
BEGIN:VEVENT
UID:d550006f4f823224c5981af260033121
DTSTAMP:20260425T154345Z
SUMMARY:Urgizschiessen (SG Densbüren-Asp) (4/5)
DESCRIPTION:https://www.sg-kuettigen.ch/kirchberg-schuetzenverband/kalender
 /urgizschiessen-sg-densbueren-asp
DTSTART:20230729T133000
DTEND:20230729T153000
LOCATION:Schiessanlage Büelhalde\, Densbüren\, Cholhaldeweg\, 5026 Densb
 üren
ORGANIZER;CN=Schützengesellschaft Küttigen:mailto:info@sg-kuettigen.ch
END:VEVENT
BEGIN:VEVENT
UID:9ce11710cb03a8847ea8bcca8cd427a7
DTSTAMP:20260425T154345Z
SUMMARY:Urgizschiessen (SG Densbüren-Asp) (5/5)
DESCRIPTION:https://www.sg-kuettigen.ch/kirchberg-schuetzenverband/kalender
 /urgizschiessen-sg-densbueren-asp
DTSTART:20230801T080000
DTEND:20230801T120000
LOCATION:Schiessanlage Büelhalde\, Densbüren\, Cholhaldeweg\, 5026 Densb
 üren
ORGANIZER;CN=Schützengesellschaft Küttigen:mailto:info@sg-kuettigen.ch
END:VEVENT
END:VCALENDAR
