BEGIN:VCALENDAR
PRODID:-//eluceo/ical//2.0/EN
VERSION:2.0
CALSCALE:GREGORIAN
BEGIN:VEVENT
UID:17c73b77667d94013f7d473dd0310050
DTSTAMP:20260425T154422Z
SUMMARY:Beguttenalpschiessen (SG Erlinsbach) (1/3)
DESCRIPTION:https://www.sg-kuettigen.ch/kirchberg-schuetzenverband/kalender
 /beguttenalpschiessen-sg-erlinsbach
DTSTART:20231028T083000
DTEND:20231028T163000
LOCATION:Schützenhaus Talmatt\, Küttigen\, Schützenhaus\, 5024 Küttigen
ORGANIZER;CN=Schützengesellschaft Küttigen:mailto:info@sg-kuettigen.ch
END:VEVENT
BEGIN:VEVENT
UID:ae00201e6391a8af40c6f1f3bc6d774c
DTSTAMP:20260425T154422Z
SUMMARY:Beguttenalpschiessen (SG Erlinsbach) (2/3)
DESCRIPTION:https://www.sg-kuettigen.ch/kirchberg-schuetzenverband/kalender
 /beguttenalpschiessen-sg-erlinsbach
DTSTART:20231029T083000
DTEND:20231029T120000
LOCATION:Schützenhaus Talmatt\, Küttigen\, Schützenhaus\, 5024 Küttigen
ORGANIZER;CN=Schützengesellschaft Küttigen:mailto:info@sg-kuettigen.ch
END:VEVENT
BEGIN:VEVENT
UID:b722ff150101764e34086b1b5bebbe72
DTSTAMP:20260425T154422Z
SUMMARY:Beguttenalpschiessen (SG Erlinsbach) (3/3)
DESCRIPTION:https://www.sg-kuettigen.ch/kirchberg-schuetzenverband/kalender
 /beguttenalpschiessen-sg-erlinsbach
DTSTART:20231104T083000
DTEND:20231104T163000
LOCATION:Schützenhaus Talmatt\, Küttigen\, Schützenhaus\, 5024 Küttigen
ORGANIZER;CN=Schützengesellschaft Küttigen:mailto:info@sg-kuettigen.ch
END:VEVENT
END:VCALENDAR
