BEGIN:VCALENDAR
PRODID:-//eluceo/ical//2.0/EN
VERSION:2.0
CALSCALE:GREGORIAN
BEGIN:VEVENT
UID:18934f8bf560db3a7c0b328b6275848a
DTSTAMP:20260425T155235Z
SUMMARY:Chuzenschüsse (Pistole 25m - SG Densbüren-Asp)
DESCRIPTION:https://www.sg-kuettigen.ch/kirchberg-schuetzenverband/kalender
 /chuzenschuesse-pistole-25m-sg-densbueren-asp
DTSTART:20231110T180000
DTEND:20231110T210000
LOCATION:Schiessanlage Büelhalde\, Densbüren\, Cholhaldeweg\, 5026 Densb
 üren
ORGANIZER;CN=Schützengesellschaft Küttigen:mailto:info@sg-kuettigen.ch
END:VEVENT
END:VCALENDAR
