BEGIN:VCALENDAR
PRODID:-//eluceo/ical//2.0/EN
VERSION:2.0
CALSCALE:GREGORIAN
BEGIN:VEVENT
UID:b27964f959b71b48e04bba39c395fd2d
DTSTAMP:20260425T153914Z
SUMMARY:Chlausschiessen (SG Erlinsbach)
DESCRIPTION:https://www.sg-kuettigen.ch/kirchberg-schuetzenverband/kalender
 /chlausschiessen-sg-erlinsbach
DTSTART:20231202T133000
DTEND:20231202T153000
LOCATION:Schützenhaus Talmatt\, Küttigen\, Schützenhaus\, 5024 Küttigen
ORGANIZER;CN=Schützengesellschaft Küttigen:mailto:info@sg-kuettigen.ch
END:VEVENT
END:VCALENDAR
