BEGIN:VCALENDAR
PRODID:-//eluceo/ical//2.0/EN
VERSION:2.0
CALSCALE:GREGORIAN
BEGIN:VEVENT
UID:dd84cb71d10a335bd28979e6fc9c68d6
DTSTAMP:20260425T171606Z
SUMMARY:Fischessen (SG Erlinsbach) (1/2)
DESCRIPTION:https://www.sg-kuettigen.ch/kirchberg-schuetzenverband/kalender
 /fischessen-sg-erlinsbach
DTSTART:20230609T170000
DTEND:20230609T230000
LOCATION:Erlinsbach Hard\, Hard 362\, 5018 Erlinsbach
ORGANIZER;CN=Schützengesellschaft Küttigen:mailto:info@sg-kuettigen.ch
END:VEVENT
BEGIN:VEVENT
UID:8e80fcba6505e89ff1870eadd594c91a
DTSTAMP:20260425T171606Z
SUMMARY:Fischessen (SG Erlinsbach) (2/2)
DESCRIPTION:https://www.sg-kuettigen.ch/kirchberg-schuetzenverband/kalender
 /fischessen-sg-erlinsbach
DTSTART:20230610T170000
DTEND:20230610T230000
LOCATION:Erlinsbach Hard\, Hard 362\, 5018 Erlinsbach
ORGANIZER;CN=Schützengesellschaft Küttigen:mailto:info@sg-kuettigen.ch
END:VEVENT
END:VCALENDAR
